BEGIN:VCALENDAR
VERSION:2.0
PRODID:-//Chelmsford Canoe Club - ECPv6.15.20//NONSGML v1.0//EN
CALSCALE:GREGORIAN
METHOD:PUBLISH
X-ORIGINAL-URL:https://www.chelmsfordcanoeclub.co.uk
X-WR-CALDESC:Events for Chelmsford Canoe Club
REFRESH-INTERVAL;VALUE=DURATION:PT1H
X-Robots-Tag:noindex
X-PUBLISHED-TTL:PT1H
BEGIN:VTIMEZONE
TZID:Europe/London
BEGIN:DAYLIGHT
TZOFFSETFROM:+0000
TZOFFSETTO:+0100
TZNAME:BST
DTSTART:20210328T010000
END:DAYLIGHT
BEGIN:STANDARD
TZOFFSETFROM:+0100
TZOFFSETTO:+0000
TZNAME:GMT
DTSTART:20211031T010000
END:STANDARD
BEGIN:DAYLIGHT
TZOFFSETFROM:+0000
TZOFFSETTO:+0100
TZNAME:BST
DTSTART:20220327T010000
END:DAYLIGHT
BEGIN:STANDARD
TZOFFSETFROM:+0100
TZOFFSETTO:+0000
TZNAME:GMT
DTSTART:20221030T010000
END:STANDARD
BEGIN:DAYLIGHT
TZOFFSETFROM:+0000
TZOFFSETTO:+0100
TZNAME:BST
DTSTART:20230326T010000
END:DAYLIGHT
BEGIN:STANDARD
TZOFFSETFROM:+0100
TZOFFSETTO:+0000
TZNAME:GMT
DTSTART:20231029T010000
END:STANDARD
BEGIN:DAYLIGHT
TZOFFSETFROM:+0000
TZOFFSETTO:+0100
TZNAME:BST
DTSTART:20240331T010000
END:DAYLIGHT
BEGIN:STANDARD
TZOFFSETFROM:+0100
TZOFFSETTO:+0000
TZNAME:GMT
DTSTART:20241027T010000
END:STANDARD
BEGIN:DAYLIGHT
TZOFFSETFROM:+0000
TZOFFSETTO:+0100
TZNAME:BST
DTSTART:20250330T010000
END:DAYLIGHT
BEGIN:STANDARD
TZOFFSETFROM:+0100
TZOFFSETTO:+0000
TZNAME:GMT
DTSTART:20251026T010000
END:STANDARD
BEGIN:DAYLIGHT
TZOFFSETFROM:+0000
TZOFFSETTO:+0100
TZNAME:BST
DTSTART:20260329T010000
END:DAYLIGHT
BEGIN:STANDARD
TZOFFSETFROM:+0100
TZOFFSETTO:+0000
TZNAME:GMT
DTSTART:20261025T010000
END:STANDARD
END:VTIMEZONE
BEGIN:VEVENT
DTSTART;TZID=Europe/London:20250928T090000
DTEND;TZID=Europe/London:20250928T163000
DTSTAMP:20260425T021206
CREATED:20250815T141311Z
LAST-MODIFIED:20250815T141311Z
UID:2984-1759050000-1759077000@www.chelmsfordcanoeclub.co.uk
SUMMARY:Paddlesport Safety and Rescue Course – 28th September 2025
DESCRIPTION:The course aims to provide paddlers with the key safety and rescue skills required to operate safely and to be able to deal with common problems in a sheltered water environment. \nLocation – Chelmsford Canoe Club\nStart time 09:00 and Finish time approx 16:30\nGroup size 4-6 persons \nThe course is for Chelmsford Canoe Club adult members and the Cost is £25 if a full member of Paddle UK and £30 if not\, includes the cost of Paddle UK Fees and the Attendance Certification. \nMore details and sign up form Click Here
URL:https://www.chelmsfordcanoeclub.co.uk/event/paddlesport-safety-and-rescue-course-28th-september-2025/
LOCATION:Chelmsford Canoe Club\, Kings Head Meadow\, Empire Walk\, Chelmsford
CATEGORIES:Courses
ORGANIZER;CN="Carl Foody":MAILTO:carl.foody@carlweb.co.uk
END:VEVENT
BEGIN:VEVENT
DTSTART;TZID=Europe/London:20250907T090000
DTEND;TZID=Europe/London:20250907T163000
DTSTAMP:20260425T021206
CREATED:20250519T111724Z
LAST-MODIFIED:20250815T141410Z
UID:2848-1757235600-1757262600@www.chelmsfordcanoeclub.co.uk
SUMMARY:Paddlesport Safety and Rescue Course - 7th September 2025
DESCRIPTION:The course aims to provide paddlers with the key safety and rescue skills required to operate safely and to be able to deal with common problems in a sheltered water environment. \nLocation – Chelmsford Canoe Club\nStart time 09:00 and Finish time approx 16:30\nGroup size 4-6 persons \nThe course is for Chelmsford Canoe Club adult members and the Cost is £25 if a full member of Paddle UK and £30 if not\, includes the cost of Paddle UK Fees and the Attendance Certification. \nMore details and sign up form Click Here
URL:https://www.chelmsfordcanoeclub.co.uk/event/paddlesport-safety-and-rescue-course-september-2025/
LOCATION:Chelmsford Canoe Club\, Kings Head Meadow\, Empire Walk\, Chelmsford
CATEGORIES:Courses
ORGANIZER;CN="Carl Foody":MAILTO:carl.foody@carlweb.co.uk
END:VEVENT
BEGIN:VEVENT
DTSTART;TZID=Europe/London:20250706T090000
DTEND;TZID=Europe/London:20250706T163000
DTSTAMP:20260425T021206
CREATED:20250519T111853Z
LAST-MODIFIED:20250630T145515Z
UID:2850-1751792400-1751819400@www.chelmsfordcanoeclub.co.uk
SUMMARY:Paddlesport Safety and Rescue Course - July 2025 - Cancelled/Postponed
DESCRIPTION:Cancelled/Postponed \nThe course aims to provide paddlers with the key safety and rescue skills required to operate safely and to be able to deal with common problems in a sheltered water environment. \nLocation – Chelmsford Canoe Club\nStart time 09:00 and Finish time approx 16:30\nGroup size 4-6 persons \nThe course is for Chelmsford Canoe Club adult members and the Cost is £25 if a full member of Paddle UK and £30 if not\, includes the cost of Paddle UK Fees and the Attendance Certification. \nMore details and sign up form Click Here
URL:https://www.chelmsfordcanoeclub.co.uk/event/paddlesport-safety-and-rescue-course-july-2025/
LOCATION:Chelmsford Canoe Club\, Kings Head Meadow\, Empire Walk\, Chelmsford
CATEGORIES:Courses
ORGANIZER;CN="Carl Foody":MAILTO:carl.foody@carlweb.co.uk
END:VEVENT
BEGIN:VEVENT
DTSTART;TZID=Europe/London:20240908T090000
DTEND;TZID=Europe/London:20240908T163000
DTSTAMP:20260425T021206
CREATED:20240613T135245Z
LAST-MODIFIED:20240613T135245Z
UID:2605-1725786000-1725813000@www.chelmsfordcanoeclub.co.uk
SUMMARY:Paddlesport Safety and Rescue Course
DESCRIPTION:A one day course for club members that will include a lot of time on or in the water. \nDetails and sign up form Paddlesport Safety and Rescue Course 2024
URL:https://www.chelmsfordcanoeclub.co.uk/event/paddlesport-safety-and-rescue-course-5/
LOCATION:Chelmsford Canoe Club\, Kings Head Meadow\, Empire Walk\, Chelmsford
CATEGORIES:Courses
ATTACH;FMTTYPE=image/jpeg:https://www.chelmsfordcanoeclub.co.uk/wp-content/uploads/2022/07/FSRT-July-2022-08.jpg
ORGANIZER;CN="Carl Foody":MAILTO:carl.foody@carlweb.co.uk
END:VEVENT
BEGIN:VEVENT
DTSTART;VALUE=DATE:20240623
DTEND;VALUE=DATE:20240624
DTSTAMP:20260425T021206
CREATED:20240126T190358Z
LAST-MODIFIED:20240126T190459Z
UID:2324-1719100800-1719187199@www.chelmsfordcanoeclub.co.uk
SUMMARY:Paddlesport Safety and Rescue Course
DESCRIPTION:A one day course for club members that will include a lot of time on or in the water. \nDetails and sign up form Paddlesport Safety and Rescue Course 2024
URL:https://www.chelmsfordcanoeclub.co.uk/event/paddlesport-safety-and-rescue-course-4/
CATEGORIES:Courses
ATTACH;FMTTYPE=image/jpeg:https://www.chelmsfordcanoeclub.co.uk/wp-content/uploads/2022/07/FSRT-July-2022-08.jpg
END:VEVENT
BEGIN:VEVENT
DTSTART;TZID=Europe/London:20230604T090000
DTEND;TZID=Europe/London:20230604T160000
DTSTAMP:20260425T021206
CREATED:20230416T103806Z
LAST-MODIFIED:20230416T103806Z
UID:1999-1685869200-1685894400@www.chelmsfordcanoeclub.co.uk
SUMMARY:Paddlesport Safety and Rescue Course
DESCRIPTION:A one day course for club members that will include a lot of time on or in the water. Start time: 09.00 and Finish time: 16.00 \nGroup size 4-8 persons \nCost is £25 for British Canoeing members and £30 if not and includes the cost of British Canoeing Attendance Certification.
URL:https://www.chelmsfordcanoeclub.co.uk/event/paddlesport-safety-and-rescue-course-2/
LOCATION:Chelmsford Canoe Club\, Kings Head Meadow\, Empire Walk\, Chelmsford
CATEGORIES:Courses
ATTACH;FMTTYPE=image/jpeg:https://www.chelmsfordcanoeclub.co.uk/wp-content/uploads/2022/07/FSRT-July-2022-01.jpg
ORGANIZER;CN="Carl Foody":MAILTO:carl.foody@carlweb.co.uk
END:VEVENT
BEGIN:VEVENT
DTSTART;TZID=Europe/London:20230530T100000
DTEND;TZID=Europe/London:20230530T153000
DTSTAMP:20260425T021206
CREATED:20230218T184357Z
LAST-MODIFIED:20230223T153908Z
UID:1898-1685440800-1685460600@www.chelmsfordcanoeclub.co.uk
SUMMARY:Junior First Aid and Paddle Safer training day
DESCRIPTION:First Aid training in the morning and Paddle Safer (qualification) in the afternoon
URL:https://www.chelmsfordcanoeclub.co.uk/event/junior-first-aid-and-rescue-training-day/
LOCATION:Clubhouse
CATEGORIES:Courses,Other,Social
END:VEVENT
BEGIN:VEVENT
DTSTART;TZID=Europe/London:20230528T090000
DTEND;TZID=Europe/London:20230528T160000
DTSTAMP:20260425T021206
CREATED:20230416T103437Z
LAST-MODIFIED:20230416T125659Z
UID:1996-1685264400-1685289600@www.chelmsfordcanoeclub.co.uk
SUMMARY:Paddlesport Safety and Rescue Course
DESCRIPTION:A one day course for club members that will include a lot of time on or in the water. Start time: 09.00 and Finish time: 16.00 \nGroup size 4-8 persons \nCost is £25 for British Canoeing members and £30 if not and includes the cost of British Canoeing Attendance Certification. \nClick for more information
URL:https://www.chelmsfordcanoeclub.co.uk/event/paddlesport-safety-and-rescue-course/
LOCATION:Chelmsford Canoe Club\, Kings Head Meadow\, Empire Walk\, Chelmsford
CATEGORIES:Courses
ATTACH;FMTTYPE=image/jpeg:https://www.chelmsfordcanoeclub.co.uk/wp-content/uploads/2022/07/FSRT-July-2022-02.jpg
ORGANIZER;CN="Carl Foody":MAILTO:carl.foody@carlweb.co.uk
END:VEVENT
BEGIN:VEVENT
DTSTART;TZID=Europe/London:20221030T080000
DTEND;TZID=Europe/London:20221030T170000
DTSTAMP:20260425T021206
CREATED:20221002T082602Z
LAST-MODIFIED:20221002T082602Z
UID:1737-1667116800-1667149200@www.chelmsfordcanoeclub.co.uk
SUMMARY:First Aid Course - day 2
DESCRIPTION:
URL:https://www.chelmsfordcanoeclub.co.uk/event/first-aid-course-day-2/
LOCATION:Clubhouse
CATEGORIES:Courses
END:VEVENT
BEGIN:VEVENT
DTSTART;TZID=Europe/London:20221023T080000
DTEND;TZID=Europe/London:20221023T170000
DTSTAMP:20260425T021206
CREATED:20221002T082444Z
LAST-MODIFIED:20221002T082444Z
UID:1735-1666512000-1666544400@www.chelmsfordcanoeclub.co.uk
SUMMARY:First Aid Course
DESCRIPTION:
URL:https://www.chelmsfordcanoeclub.co.uk/event/first-aid-course-3/
LOCATION:Clubhouse
CATEGORIES:Courses
END:VEVENT
BEGIN:VEVENT
DTSTART;TZID=Europe/London:20220717T090000
DTEND;TZID=Europe/London:20220717T180000
DTSTAMP:20260425T021206
CREATED:20220402T084720Z
LAST-MODIFIED:20220516T161128Z
UID:934-1658048400-1658080800@www.chelmsfordcanoeclub.co.uk
SUMMARY:Foundation Safety and Rescue Training (FSRT)
DESCRIPTION:A course at the club for club members\, Sunday July 17th\nA one day course that will include at least 8 hours’ teaching time\, a lot of it on or in the water. Start time: 09.00 and Finish time: 18.00 \nGroup size 4-6 persons \nCost is £25 for British Canoeing members and £30 for others and includes the cost of British Canoeing Attendance Certification. \nClick for more details
URL:https://www.chelmsfordcanoeclub.co.uk/event/foundation-safety-and-rescue-training-fsrt/
LOCATION:Chelmsford Canoe Club\, Kings Head Meadow\, Empire Walk\, Chelmsford
CATEGORIES:Courses
ATTACH;FMTTYPE=image/jpeg:https://www.chelmsfordcanoeclub.co.uk/wp-content/uploads/2022/03/FSRT-Pic3-scaled.jpg
ORGANIZER;CN="Carl Foody":MAILTO:carl.foody@carlweb.co.uk
END:VEVENT
END:VCALENDAR