BEGIN:VCALENDAR
VERSION:2.0
PRODID:-//Chelmsford Canoe Club - ECPv6.15.20//NONSGML v1.0//EN
CALSCALE:GREGORIAN
METHOD:PUBLISH
X-ORIGINAL-URL:https://www.chelmsfordcanoeclub.co.uk
X-WR-CALDESC:Events for Chelmsford Canoe Club
REFRESH-INTERVAL;VALUE=DURATION:PT1H
X-Robots-Tag:noindex
X-PUBLISHED-TTL:PT1H
BEGIN:VTIMEZONE
TZID:Europe/London
BEGIN:DAYLIGHT
TZOFFSETFROM:+0000
TZOFFSETTO:+0100
TZNAME:BST
DTSTART:20230326T010000
END:DAYLIGHT
BEGIN:STANDARD
TZOFFSETFROM:+0100
TZOFFSETTO:+0000
TZNAME:GMT
DTSTART:20231029T010000
END:STANDARD
BEGIN:DAYLIGHT
TZOFFSETFROM:+0000
TZOFFSETTO:+0100
TZNAME:BST
DTSTART:20240331T010000
END:DAYLIGHT
BEGIN:STANDARD
TZOFFSETFROM:+0100
TZOFFSETTO:+0000
TZNAME:GMT
DTSTART:20241027T010000
END:STANDARD
BEGIN:DAYLIGHT
TZOFFSETFROM:+0000
TZOFFSETTO:+0100
TZNAME:BST
DTSTART:20250330T010000
END:DAYLIGHT
BEGIN:STANDARD
TZOFFSETFROM:+0100
TZOFFSETTO:+0000
TZNAME:GMT
DTSTART:20251026T010000
END:STANDARD
END:VTIMEZONE
BEGIN:VEVENT
DTSTART;VALUE=DATE:20241006
DTEND;VALUE=DATE:20241007
DTSTAMP:20260425T130001
CREATED:20240103T132549Z
LAST-MODIFIED:20240103T132549Z
UID:2297-1728172800-1728259199@www.chelmsfordcanoeclub.co.uk
SUMMARY:Hasler Final
DESCRIPTION:
URL:https://www.chelmsfordcanoeclub.co.uk/event/hasler-final-2/
LOCATION:Ham St\, Richmond TW10 7HF
CATEGORIES:Races
END:VEVENT
BEGIN:VEVENT
DTSTART;VALUE=DATE:20241013
DTEND;VALUE=DATE:20241014
DTSTAMP:20260425T130001
CREATED:20240220T002851Z
LAST-MODIFIED:20240220T002851Z
UID:2348-1728777600-1728863999@www.chelmsfordcanoeclub.co.uk
SUMMARY:Chelmsford Hasler
DESCRIPTION:
URL:https://www.chelmsfordcanoeclub.co.uk/event/chelmsford-hasler-2/
LOCATION:Chelmsford Canoe Club\, Kings Head Meadow\, Empire Walk\, Chelmsford
CATEGORIES:Races
END:VEVENT
BEGIN:VEVENT
DTSTART;TZID=Europe/London:20241019T100000
DTEND;TZID=Europe/London:20241019T121500
DTSTAMP:20260425T130001
CREATED:20240311T125528Z
LAST-MODIFIED:20240311T125528Z
UID:2396-1729332000-1729340100@www.chelmsfordcanoeclub.co.uk
SUMMARY:Tom Head Championship race II
DESCRIPTION:
URL:https://www.chelmsfordcanoeclub.co.uk/event/tom-head-championship-race-ii/
LOCATION:Clubhouse
CATEGORIES:Races,Social
END:VEVENT
BEGIN:VEVENT
DTSTART;TZID=Europe/London:20241019T190000
DTEND;TZID=Europe/London:20241019T210000
DTSTAMP:20260425T130001
CREATED:20240916T000306Z
LAST-MODIFIED:20240916T000306Z
UID:2666-1729364400-1729371600@www.chelmsfordcanoeclub.co.uk
SUMMARY:Race Presentation Evening
DESCRIPTION:
URL:https://www.chelmsfordcanoeclub.co.uk/event/race-presentation-evening-2/
LOCATION:Clubhouse
CATEGORIES:Races,Social
END:VEVENT
END:VCALENDAR