BEGIN:VCALENDAR
VERSION:2.0
PRODID:-//Chelmsford Canoe Club - ECPv6.15.20//NONSGML v1.0//EN
CALSCALE:GREGORIAN
METHOD:PUBLISH
X-WR-CALNAME:Chelmsford Canoe Club
X-ORIGINAL-URL:https://www.chelmsfordcanoeclub.co.uk
X-WR-CALDESC:Events for Chelmsford Canoe Club
REFRESH-INTERVAL;VALUE=DURATION:PT1H
X-Robots-Tag:noindex
X-PUBLISHED-TTL:PT1H
BEGIN:VTIMEZONE
TZID:Europe/London
BEGIN:DAYLIGHT
TZOFFSETFROM:+0000
TZOFFSETTO:+0100
TZNAME:BST
DTSTART:20240331T010000
END:DAYLIGHT
BEGIN:STANDARD
TZOFFSETFROM:+0100
TZOFFSETTO:+0000
TZNAME:GMT
DTSTART:20241027T010000
END:STANDARD
BEGIN:DAYLIGHT
TZOFFSETFROM:+0000
TZOFFSETTO:+0100
TZNAME:BST
DTSTART:20250330T010000
END:DAYLIGHT
BEGIN:STANDARD
TZOFFSETFROM:+0100
TZOFFSETTO:+0000
TZNAME:GMT
DTSTART:20251026T010000
END:STANDARD
BEGIN:DAYLIGHT
TZOFFSETFROM:+0000
TZOFFSETTO:+0100
TZNAME:BST
DTSTART:20260329T010000
END:DAYLIGHT
BEGIN:STANDARD
TZOFFSETFROM:+0100
TZOFFSETTO:+0000
TZNAME:GMT
DTSTART:20261025T010000
END:STANDARD
END:VTIMEZONE
BEGIN:VEVENT
DTSTART;TZID=Europe/London:20250111T100000
DTEND;TZID=Europe/London:20250111T121500
DTSTAMP:20260423T124018
CREATED:20240311T125854Z
LAST-MODIFIED:20240311T125854Z
UID:2400-1736589600-1736597700@www.chelmsfordcanoeclub.co.uk
SUMMARY:Tom Head Championship race IV
DESCRIPTION:
URL:https://www.chelmsfordcanoeclub.co.uk/event/tom-head-championship-race-iv/
LOCATION:Clubhouse
CATEGORIES:Races,Social
END:VEVENT
BEGIN:VEVENT
DTSTART;VALUE=DATE:20250112
DTEND;VALUE=DATE:20250113
DTSTAMP:20260423T124018
CREATED:20240622T234252Z
LAST-MODIFIED:20240622T234656Z
UID:2623-1736640000-1736726399@www.chelmsfordcanoeclub.co.uk
SUMMARY:Chelmsford Winter Series Race
DESCRIPTION:
URL:https://www.chelmsfordcanoeclub.co.uk/event/chelmsford-winter-series-race-3/
LOCATION:Chelmsford Canoe Club\, Kings Head Meadow\, Empire Walk\, Chelmsford
CATEGORIES:Races
END:VEVENT
BEGIN:VEVENT
DTSTART;TZID=Europe/London:20250126T080000
DTEND;TZID=Europe/London:20250126T170000
DTSTAMP:20260423T124018
CREATED:20240622T234514Z
LAST-MODIFIED:20250101T085026Z
UID:2627-1737878400-1737910800@www.chelmsfordcanoeclub.co.uk
SUMMARY:Leighton Buzzard Winter Series Race
DESCRIPTION:
URL:https://www.chelmsfordcanoeclub.co.uk/event/leighton-buzzard-winter-series-race-tbc-2/
LOCATION:Leighton Buzzard Canoe Club
CATEGORIES:Races
END:VEVENT
END:VCALENDAR