BEGIN:VCALENDAR
VERSION:2.0
PRODID:-//Chelmsford Canoe Club - ECPv6.15.20//NONSGML v1.0//EN
CALSCALE:GREGORIAN
METHOD:PUBLISH
X-ORIGINAL-URL:https://www.chelmsfordcanoeclub.co.uk
X-WR-CALDESC:Events for Chelmsford Canoe Club
REFRESH-INTERVAL;VALUE=DURATION:PT1H
X-Robots-Tag:noindex
X-PUBLISHED-TTL:PT1H
BEGIN:VTIMEZONE
TZID:Europe/London
BEGIN:DAYLIGHT
TZOFFSETFROM:+0000
TZOFFSETTO:+0100
TZNAME:BST
DTSTART:20230326T010000
END:DAYLIGHT
BEGIN:STANDARD
TZOFFSETFROM:+0100
TZOFFSETTO:+0000
TZNAME:GMT
DTSTART:20231029T010000
END:STANDARD
BEGIN:DAYLIGHT
TZOFFSETFROM:+0000
TZOFFSETTO:+0100
TZNAME:BST
DTSTART:20240331T010000
END:DAYLIGHT
BEGIN:STANDARD
TZOFFSETFROM:+0100
TZOFFSETTO:+0000
TZNAME:GMT
DTSTART:20241027T010000
END:STANDARD
BEGIN:DAYLIGHT
TZOFFSETFROM:+0000
TZOFFSETTO:+0100
TZNAME:BST
DTSTART:20250330T010000
END:DAYLIGHT
BEGIN:STANDARD
TZOFFSETFROM:+0100
TZOFFSETTO:+0000
TZNAME:GMT
DTSTART:20251026T010000
END:STANDARD
END:VTIMEZONE
BEGIN:VEVENT
DTSTART;TZID=Europe/London:20241130T100000
DTEND;TZID=Europe/London:20241130T121500
DTSTAMP:20260423T155849
CREATED:20240311T125716Z
LAST-MODIFIED:20240311T125716Z
UID:2398-1732960800-1732968900@www.chelmsfordcanoeclub.co.uk
SUMMARY:Tom Head Championship race III
DESCRIPTION:
URL:https://www.chelmsfordcanoeclub.co.uk/event/tom-head-championship-race-iii/
LOCATION:Clubhouse
CATEGORIES:Races,Social
END:VEVENT
END:VCALENDAR