BEGIN:VCALENDAR
VERSION:2.0
PRODID:-//Chelmsford Canoe Club - ECPv6.15.20//NONSGML v1.0//EN
CALSCALE:GREGORIAN
METHOD:PUBLISH
X-ORIGINAL-URL:https://www.chelmsfordcanoeclub.co.uk
X-WR-CALDESC:Events for Chelmsford Canoe Club
REFRESH-INTERVAL;VALUE=DURATION:PT1H
X-Robots-Tag:noindex
X-PUBLISHED-TTL:PT1H
BEGIN:VTIMEZONE
TZID:Europe/London
BEGIN:DAYLIGHT
TZOFFSETFROM:+0000
TZOFFSETTO:+0100
TZNAME:BST
DTSTART:20210328T010000
END:DAYLIGHT
BEGIN:STANDARD
TZOFFSETFROM:+0100
TZOFFSETTO:+0000
TZNAME:GMT
DTSTART:20211031T010000
END:STANDARD
BEGIN:DAYLIGHT
TZOFFSETFROM:+0000
TZOFFSETTO:+0100
TZNAME:BST
DTSTART:20220327T010000
END:DAYLIGHT
BEGIN:STANDARD
TZOFFSETFROM:+0100
TZOFFSETTO:+0000
TZNAME:GMT
DTSTART:20221030T010000
END:STANDARD
BEGIN:DAYLIGHT
TZOFFSETFROM:+0000
TZOFFSETTO:+0100
TZNAME:BST
DTSTART:20230326T010000
END:DAYLIGHT
BEGIN:STANDARD
TZOFFSETFROM:+0100
TZOFFSETTO:+0000
TZNAME:GMT
DTSTART:20231029T010000
END:STANDARD
BEGIN:DAYLIGHT
TZOFFSETFROM:+0000
TZOFFSETTO:+0100
TZNAME:BST
DTSTART:20240331T010000
END:DAYLIGHT
BEGIN:STANDARD
TZOFFSETFROM:+0100
TZOFFSETTO:+0000
TZNAME:GMT
DTSTART:20241027T010000
END:STANDARD
END:VTIMEZONE
BEGIN:VEVENT
DTSTART;VALUE=DATE:20231105
DTEND;VALUE=DATE:20231106
DTSTAMP:20260420T142959
CREATED:20230928T201142Z
LAST-MODIFIED:20230928T201142Z
UID:2178-1699142400-1699228799@www.chelmsfordcanoeclub.co.uk
SUMMARY:Bishops Stortford Winter Series Race
DESCRIPTION:
URL:https://www.chelmsfordcanoeclub.co.uk/event/bishops-stortford-winter-series-race/
LOCATION:Bishops Stortford Canoe Club
CATEGORIES:Races
END:VEVENT
BEGIN:VEVENT
DTSTART;TZID=Europe/London:20231021T094500
DTEND;TZID=Europe/London:20231021T121500
DTSTAMP:20260420T142959
CREATED:20230721T202421Z
LAST-MODIFIED:20230721T202421Z
UID:2101-1697881500-1697890500@www.chelmsfordcanoeclub.co.uk
SUMMARY:Chelmsford Championship - 2nd Race
DESCRIPTION:
URL:https://www.chelmsfordcanoeclub.co.uk/event/chelmsford-championship-2nd-race/
LOCATION:Chelmsford Canoe Club\, Kings Head Meadow\, Empire Walk\, Chelmsford
CATEGORIES:Races,Social
END:VEVENT
BEGIN:VEVENT
DTSTART;TZID=Europe/London:20231015T080000
DTEND;TZID=Europe/London:20231015T170000
DTSTAMP:20260420T142959
CREATED:20220925T190424Z
LAST-MODIFIED:20231012T171411Z
UID:1725-1697356800-1697389200@www.chelmsfordcanoeclub.co.uk
SUMMARY:Chelmer Hasler
DESCRIPTION:
URL:https://www.chelmsfordcanoeclub.co.uk/event/chelmer-hasler/
LOCATION:Chelmsford Canoe Club\, Kings Head Meadow\, Empire Walk\, Chelmsford
CATEGORIES:Races
END:VEVENT
BEGIN:VEVENT
DTSTART;TZID=Europe/London:20231007T130000
DTEND;TZID=Europe/London:20231007T150000
DTSTAMP:20260420T142959
CREATED:20230927T084027Z
LAST-MODIFIED:20230927T084027Z
UID:2169-1696683600-1696690800@www.chelmsfordcanoeclub.co.uk
SUMMARY:Race Presentation Afternoon
DESCRIPTION:
URL:https://www.chelmsfordcanoeclub.co.uk/event/race-presentation-afternoon/
LOCATION:Clubhouse
CATEGORIES:Races,Social
END:VEVENT
BEGIN:VEVENT
DTSTART;TZID=Europe/London:20230930T094500
DTEND;TZID=Europe/London:20230930T121000
DTSTAMP:20260420T142959
CREATED:20230623T194403Z
LAST-MODIFIED:20230623T194403Z
UID:2040-1696067100-1696075800@www.chelmsfordcanoeclub.co.uk
SUMMARY:Chelmsford Championship 2023 - First Race
DESCRIPTION:
URL:https://www.chelmsfordcanoeclub.co.uk/event/chelmsford-championship-2023-first-race/
LOCATION:Clubhouse
CATEGORIES:Races,Social
END:VEVENT
BEGIN:VEVENT
DTSTART;TZID=Europe/London:20230902T080000
DTEND;TZID=Europe/London:20230903T170000
DTSTAMP:20260420T142959
CREATED:20220925T190146Z
LAST-MODIFIED:20220925T190146Z
UID:1723-1693641600-1693760400@www.chelmsfordcanoeclub.co.uk
SUMMARY:National Sprint Regatta
DESCRIPTION:
URL:https://www.chelmsfordcanoeclub.co.uk/event/national-sprint-regatta-3/
LOCATION:Nottingham
CATEGORIES:Races
END:VEVENT
BEGIN:VEVENT
DTSTART;VALUE=DATE:20230805
DTEND;VALUE=DATE:20230806
DTSTAMP:20260420T142959
CREATED:20230625T130648Z
LAST-MODIFIED:20230625T130648Z
UID:2054-1691193600-1691279999@www.chelmsfordcanoeclub.co.uk
SUMMARY:Sella Descent
DESCRIPTION:
URL:https://www.chelmsfordcanoeclub.co.uk/event/sella-descent/
CATEGORIES:Races
END:VEVENT
BEGIN:VEVENT
DTSTART;TZID=Europe/London:20230722T080000
DTEND;TZID=Europe/London:20230723T170000
DTSTAMP:20260420T142959
CREATED:20220925T190019Z
LAST-MODIFIED:20230108T184249Z
UID:1720-1690012800-1690131600@www.chelmsfordcanoeclub.co.uk
SUMMARY:National Marathon Championships
DESCRIPTION:
URL:https://www.chelmsfordcanoeclub.co.uk/event/national-marathon-championships/
LOCATION:Norwich
CATEGORIES:Races
END:VEVENT
BEGIN:VEVENT
DTSTART;TZID=Europe/London:20230709T080000
DTEND;TZID=Europe/London:20230709T170000
DTSTAMP:20260420T142959
CREATED:20220925T185823Z
LAST-MODIFIED:20220925T185823Z
UID:1718-1688889600-1688922000@www.chelmsfordcanoeclub.co.uk
SUMMARY:Bishop Stortford Hasler
DESCRIPTION:
URL:https://www.chelmsfordcanoeclub.co.uk/event/bishop-stortford-hasler/
CATEGORIES:Races
END:VEVENT
BEGIN:VEVENT
DTSTART;TZID=Europe/London:20230701T080000
DTEND;TZID=Europe/London:20230702T170000
DTSTAMP:20260420T142959
CREATED:20220925T185728Z
LAST-MODIFIED:20220925T185728Z
UID:1714-1688198400-1688317200@www.chelmsfordcanoeclub.co.uk
SUMMARY:National Sprint Regatta
DESCRIPTION:
URL:https://www.chelmsfordcanoeclub.co.uk/event/national-sprint-regatta-2/
LOCATION:Nottingham
CATEGORIES:Races
END:VEVENT
BEGIN:VEVENT
DTSTART;TZID=Europe/London:20230618T080000
DTEND;TZID=Europe/London:20230618T170000
DTSTAMP:20260420T142959
CREATED:20220925T185518Z
LAST-MODIFIED:20220925T185518Z
UID:1712-1687075200-1687107600@www.chelmsfordcanoeclub.co.uk
SUMMARY:Leighton Buzzard Hasler
DESCRIPTION:
URL:https://www.chelmsfordcanoeclub.co.uk/event/leighton-buzzard-hasler-2/
CATEGORIES:Races
END:VEVENT
BEGIN:VEVENT
DTSTART;VALUE=DATE:20230610
DTEND;VALUE=DATE:20230611
DTSTAMP:20260420T142959
CREATED:20230121T171935Z
LAST-MODIFIED:20230121T171935Z
UID:1854-1686355200-1686441599@www.chelmsfordcanoeclub.co.uk
SUMMARY:Heybridge to Chelmsford Paddle & BBQ
DESCRIPTION:
URL:https://www.chelmsfordcanoeclub.co.uk/event/heybridge-to-chelmsford-paddle-bbq/
CATEGORIES:Races,Social,Touring
END:VEVENT
BEGIN:VEVENT
DTSTART;TZID=Europe/London:20230603T080000
DTEND;TZID=Europe/London:20230604T170000
DTSTAMP:20260420T142959
CREATED:20220925T185329Z
LAST-MODIFIED:20220925T185329Z
UID:1710-1685779200-1685898000@www.chelmsfordcanoeclub.co.uk
SUMMARY:National Sprint Regatta
DESCRIPTION:
URL:https://www.chelmsfordcanoeclub.co.uk/event/national-sprint-regatta/
CATEGORIES:Races
END:VEVENT
BEGIN:VEVENT
DTSTART;VALUE=DATE:20230521
DTEND;VALUE=DATE:20230522
DTSTAMP:20260420T142959
CREATED:20230124T142807Z
LAST-MODIFIED:20230124T142807Z
UID:1858-1684627200-1684713599@www.chelmsfordcanoeclub.co.uk
SUMMARY:Norwich Hasler
DESCRIPTION:
URL:https://www.chelmsfordcanoeclub.co.uk/event/norwich-hasler/
CATEGORIES:Races
END:VEVENT
BEGIN:VEVENT
DTSTART;TZID=Europe/London:20230507T080000
DTEND;TZID=Europe/London:20230507T170000
DTSTAMP:20260420T142959
CREATED:20220925T185114Z
LAST-MODIFIED:20220925T185114Z
UID:1708-1683446400-1683478800@www.chelmsfordcanoeclub.co.uk
SUMMARY:National Marathon Short Course Championships
DESCRIPTION:
URL:https://www.chelmsfordcanoeclub.co.uk/event/national-marathon-short-course-championships/
CATEGORIES:Races
END:VEVENT
BEGIN:VEVENT
DTSTART;TZID=Europe/London:20230430T080000
DTEND;TZID=Europe/London:20230430T170000
DTSTAMP:20260420T142959
CREATED:20220925T184838Z
LAST-MODIFIED:20220925T184838Z
UID:1706-1682841600-1682874000@www.chelmsfordcanoeclub.co.uk
SUMMARY:Bedford Hasler
DESCRIPTION:
URL:https://www.chelmsfordcanoeclub.co.uk/event/bedford-hasler-2/
CATEGORIES:Races
END:VEVENT
BEGIN:VEVENT
DTSTART;TZID=Europe/London:20230415T080000
DTEND;TZID=Europe/London:20230416T170000
DTSTAMP:20260420T142959
CREATED:20220925T190610Z
LAST-MODIFIED:20221017T191243Z
UID:1727-1681545600-1681664400@www.chelmsfordcanoeclub.co.uk
SUMMARY:National Sprint Regatta
DESCRIPTION:
URL:https://www.chelmsfordcanoeclub.co.uk/event/national-sprint-regatta-4/
LOCATION:Nottingham
CATEGORIES:Races
END:VEVENT
BEGIN:VEVENT
DTSTART;VALUE=DATE:20230326
DTEND;VALUE=DATE:20230327
DTSTAMP:20260420T142959
CREATED:20230320T170627Z
LAST-MODIFIED:20230320T170627Z
UID:1967-1679788800-1679875199@www.chelmsfordcanoeclub.co.uk
SUMMARY:Chelmsford Sprint Regatta
DESCRIPTION:
URL:https://www.chelmsfordcanoeclub.co.uk/event/chelmsford-sprint-regatta/
LOCATION:Clubhouse
CATEGORIES:Races
END:VEVENT
BEGIN:VEVENT
DTSTART;TZID=Europe/London:20230228T200000
DTEND;TZID=Europe/London:20230228T210000
DTSTAMP:20260420T142959
CREATED:20230101T095339Z
LAST-MODIFIED:20230101T095339Z
UID:1827-1677614400-1677618000@www.chelmsfordcanoeclub.co.uk
SUMMARY:Race Section AGM
DESCRIPTION:
URL:https://www.chelmsfordcanoeclub.co.uk/event/race-section-agm-2/
LOCATION:Clubhouse
CATEGORIES:AGM,Other,Races,Social
END:VEVENT
BEGIN:VEVENT
DTSTART;VALUE=DATE:20230212
DTEND;VALUE=DATE:20230213
DTSTAMP:20260420T142959
CREATED:20221017T191504Z
LAST-MODIFIED:20221017T191639Z
UID:1772-1676160000-1676246399@www.chelmsfordcanoeclub.co.uk
SUMMARY:Cambridge Hasler
DESCRIPTION:
URL:https://www.chelmsfordcanoeclub.co.uk/event/cambridge-hasler-2/
LOCATION:Cambridge Canoe Club
CATEGORIES:Races
END:VEVENT
BEGIN:VEVENT
DTSTART;VALUE=DATE:20230205
DTEND;VALUE=DATE:20230206
DTSTAMP:20260420T142959
CREATED:20230129T003600Z
LAST-MODIFIED:20230129T003600Z
UID:1861-1675555200-1675641599@www.chelmsfordcanoeclub.co.uk
SUMMARY:Leighton Buzzard - Winter Series Race - New Date
DESCRIPTION:
URL:https://www.chelmsfordcanoeclub.co.uk/event/leighton-buzzard-winter-series-race-new-date/
CATEGORIES:Races
END:VEVENT
BEGIN:VEVENT
DTSTART;VALUE=DATE:20230129
DTEND;VALUE=DATE:20230130
DTSTAMP:20260420T142959
CREATED:20220805T200217Z
LAST-MODIFIED:20230129T003355Z
UID:1664-1674950400-1675036799@www.chelmsfordcanoeclub.co.uk
SUMMARY:Leighton Buzzard - Winter Series Race - Postponed until 5th Feb
DESCRIPTION:
URL:https://www.chelmsfordcanoeclub.co.uk/event/leighton-buzzard-winter-series-race-provisional/
CATEGORIES:Races
END:VEVENT
BEGIN:VEVENT
DTSTART;TZID=Europe/London:20230128T200000
DTEND;TZID=Europe/London:20230128T200000
DTSTAMP:20260420T142959
CREATED:20221210T114717Z
LAST-MODIFIED:20230101T095153Z
UID:1814-1674936000-1674936000@www.chelmsfordcanoeclub.co.uk
SUMMARY:Race Section AGM - now 28th Feb
DESCRIPTION:
URL:https://www.chelmsfordcanoeclub.co.uk/event/race-section-agm/
LOCATION:Clubhouse
CATEGORIES:AGM,Races,Social
END:VEVENT
BEGIN:VEVENT
DTSTART;TZID=Europe/London:20230122T080000
DTEND;TZID=Europe/London:20230122T170000
DTSTAMP:20260420T142959
CREATED:20230113T190018Z
LAST-MODIFIED:20230113T190018Z
UID:1849-1674374400-1674406800@www.chelmsfordcanoeclub.co.uk
SUMMARY:Chelmsford Winter Series race - new date
DESCRIPTION:
URL:https://www.chelmsfordcanoeclub.co.uk/event/chelmsford-winter-series-race-new-date/
LOCATION:Clubhouse
CATEGORIES:Races
END:VEVENT
BEGIN:VEVENT
DTSTART;TZID=Europe/London:20230121T100000
DTEND;TZID=Europe/London:20230121T120000
DTSTAMP:20260420T142959
CREATED:20221231T100421Z
LAST-MODIFIED:20221231T100421Z
UID:1823-1674295200-1674302400@www.chelmsfordcanoeclub.co.uk
SUMMARY:Tom Head Championship Race (Last)
DESCRIPTION:Only open to club members.
URL:https://www.chelmsfordcanoeclub.co.uk/event/tom-head-championship-race-last/
LOCATION:Clubhouse
CATEGORIES:Races
END:VEVENT
BEGIN:VEVENT
DTSTART;VALUE=DATE:20230115
DTEND;VALUE=DATE:20230116
DTSTAMP:20260420T142959
CREATED:20220805T200135Z
LAST-MODIFIED:20230113T185810Z
UID:1662-1673740800-1673827199@www.chelmsfordcanoeclub.co.uk
SUMMARY:Chelmsford - Winter Series Race Postponed until 22nd January
DESCRIPTION:
URL:https://www.chelmsfordcanoeclub.co.uk/event/chelmsford-winter-series-race-provisional/
CATEGORIES:Races
END:VEVENT
BEGIN:VEVENT
DTSTART;VALUE=DATE:20230108
DTEND;VALUE=DATE:20230109
DTSTAMP:20260420T142959
CREATED:20221210T114512Z
LAST-MODIFIED:20230107T155432Z
UID:1812-1673136000-1673222399@www.chelmsfordcanoeclub.co.uk
SUMMARY:Frank Luzmore Memorial Race -cancelled
DESCRIPTION:
URL:https://www.chelmsfordcanoeclub.co.uk/event/frank-luzmore-memorial-race/
CATEGORIES:Races
END:VEVENT
BEGIN:VEVENT
DTSTART;TZID=Europe/London:20221222T173000
DTEND;TZID=Europe/London:20221222T190000
DTSTAMP:20260420T142959
CREATED:20221119T165953Z
LAST-MODIFIED:20221119T165953Z
UID:1792-1671730200-1671735600@www.chelmsfordcanoeclub.co.uk
SUMMARY:Christmas K2 race
DESCRIPTION:
URL:https://www.chelmsfordcanoeclub.co.uk/event/christmas-k2-race/
LOCATION:Clubhouse
CATEGORIES:Races,Social
END:VEVENT
BEGIN:VEVENT
DTSTART;TZID=Europe/London:20221217T094500
DTEND;TZID=Europe/London:20221217T120000
DTSTAMP:20260420T142959
CREATED:20220815T185402Z
LAST-MODIFIED:20221216T121036Z
UID:1681-1671270300-1671278400@www.chelmsfordcanoeclub.co.uk
SUMMARY:Tom Head Championship Race (Fourth & Last) Postponed to 21st January
DESCRIPTION:Only open to Chelmsford Canoe Club Members.
URL:https://www.chelmsfordcanoeclub.co.uk/event/tom-head-championship-race-fourth-last/
LOCATION:Clubhouse
CATEGORIES:Races,Social
END:VEVENT
BEGIN:VEVENT
DTSTART;VALUE=DATE:20221204
DTEND;VALUE=DATE:20221205
DTSTAMP:20260420T142959
CREATED:20220805T200055Z
LAST-MODIFIED:20221008T214105Z
UID:1660-1670112000-1670198399@www.chelmsfordcanoeclub.co.uk
SUMMARY:Cambridge - Winter Series Race (Confirmed)
DESCRIPTION:
URL:https://www.chelmsfordcanoeclub.co.uk/event/cambridge-winter-series-race-provisional/
CATEGORIES:Races
END:VEVENT
END:VCALENDAR