BEGIN:VCALENDAR
VERSION:2.0
PRODID:-//Chelmsford Canoe Club - ECPv6.15.20//NONSGML v1.0//EN
CALSCALE:GREGORIAN
METHOD:PUBLISH
X-ORIGINAL-URL:https://www.chelmsfordcanoeclub.co.uk
X-WR-CALDESC:Events for Chelmsford Canoe Club
REFRESH-INTERVAL;VALUE=DURATION:PT1H
X-Robots-Tag:noindex
X-PUBLISHED-TTL:PT1H
BEGIN:VTIMEZONE
TZID:Europe/London
BEGIN:DAYLIGHT
TZOFFSETFROM:+0000
TZOFFSETTO:+0100
TZNAME:BST
DTSTART:20200329T010000
END:DAYLIGHT
BEGIN:STANDARD
TZOFFSETFROM:+0100
TZOFFSETTO:+0000
TZNAME:GMT
DTSTART:20201025T010000
END:STANDARD
BEGIN:DAYLIGHT
TZOFFSETFROM:+0000
TZOFFSETTO:+0100
TZNAME:BST
DTSTART:20210328T010000
END:DAYLIGHT
BEGIN:STANDARD
TZOFFSETFROM:+0100
TZOFFSETTO:+0000
TZNAME:GMT
DTSTART:20211031T010000
END:STANDARD
BEGIN:DAYLIGHT
TZOFFSETFROM:+0000
TZOFFSETTO:+0100
TZNAME:BST
DTSTART:20220327T010000
END:DAYLIGHT
BEGIN:STANDARD
TZOFFSETFROM:+0100
TZOFFSETTO:+0000
TZNAME:GMT
DTSTART:20221030T010000
END:STANDARD
BEGIN:DAYLIGHT
TZOFFSETFROM:+0000
TZOFFSETTO:+0100
TZNAME:BST
DTSTART:20230326T010000
END:DAYLIGHT
BEGIN:STANDARD
TZOFFSETFROM:+0100
TZOFFSETTO:+0000
TZNAME:GMT
DTSTART:20231029T010000
END:STANDARD
END:VTIMEZONE
BEGIN:VEVENT
DTSTART;TZID=Europe/London:20220917T094500
DTEND;TZID=Europe/London:20220917T120000
DTSTAMP:20260422T125439
CREATED:20220815T184828Z
LAST-MODIFIED:20220815T184828Z
UID:1672-1663407900-1663416000@www.chelmsfordcanoeclub.co.uk
SUMMARY:Tom Head Championship Race (First)
DESCRIPTION:Only open to Chelmsford Canoe Club Members
URL:https://www.chelmsfordcanoeclub.co.uk/event/tom-head-championship-race-first/
LOCATION:Clubhouse
CATEGORIES:Races,Social
END:VEVENT
BEGIN:VEVENT
DTSTART;VALUE=DATE:20220911
DTEND;VALUE=DATE:20220912
DTSTAMP:20260422T125439
CREATED:20220805T195800Z
LAST-MODIFIED:20220805T195800Z
UID:1654-1662854400-1662854400@www.chelmsfordcanoeclub.co.uk
SUMMARY:Bishops Stortford - Summer Sprints (Provisional)
DESCRIPTION:
URL:https://www.chelmsfordcanoeclub.co.uk/event/bishops-stortford-summer-sprints-provisional/
CATEGORIES:Races
END:VEVENT
BEGIN:VEVENT
DTSTART;VALUE=DATE:20220903
DTEND;VALUE=DATE:20220905
DTSTAMP:20260422T125439
CREATED:20220207T010037Z
LAST-MODIFIED:20220207T010037Z
UID:700-1662163200-1662335999@www.chelmsfordcanoeclub.co.uk
SUMMARY:National Sprint Regatta - Nottingham - MacGregor Paddle
DESCRIPTION:
URL:https://www.chelmsfordcanoeclub.co.uk/event/national-sprint-regatta-nottingham-macgregor-paddle/
CATEGORIES:Races
END:VEVENT
BEGIN:VEVENT
DTSTART;VALUE=DATE:20220827
DTEND;VALUE=DATE:20220901
DTSTAMP:20260422T125439
CREATED:20220805T200427Z
LAST-MODIFIED:20220805T200543Z
UID:1667-1661558400-1661990399@www.chelmsfordcanoeclub.co.uk
SUMMARY:Marathon National Championships - Worcester
DESCRIPTION:
URL:https://www.chelmsfordcanoeclub.co.uk/event/marathon-national-championships-worcester/
CATEGORIES:Races
END:VEVENT
BEGIN:VEVENT
DTSTART;VALUE=DATE:20220710
DTEND;VALUE=DATE:20220711
DTSTAMP:20260422T125439
CREATED:20220207T004749Z
LAST-MODIFIED:20220207T004749Z
UID:680-1657411200-1657497599@www.chelmsfordcanoeclub.co.uk
SUMMARY:Bishops Stortford Hasler
DESCRIPTION:
URL:https://www.chelmsfordcanoeclub.co.uk/event/bishops-stortford-hasler/
CATEGORIES:Races
END:VEVENT
BEGIN:VEVENT
DTSTART;VALUE=DATE:20220702
DTEND;VALUE=DATE:20220704
DTSTAMP:20260422T125439
CREATED:20220207T005847Z
LAST-MODIFIED:20220207T005847Z
UID:698-1656720000-1656892799@www.chelmsfordcanoeclub.co.uk
SUMMARY:National Sprint Regatta - Nottingham
DESCRIPTION:
URL:https://www.chelmsfordcanoeclub.co.uk/event/national-sprint-regatta-nottingham-3/
CATEGORIES:Races
END:VEVENT
BEGIN:VEVENT
DTSTART;VALUE=DATE:20220619
DTEND;VALUE=DATE:20220620
DTSTAMP:20260422T125439
CREATED:20220207T004627Z
LAST-MODIFIED:20220207T005204Z
UID:677-1655596800-1655683199@www.chelmsfordcanoeclub.co.uk
SUMMARY:Leighton Buzzard Hasler
DESCRIPTION:
URL:https://www.chelmsfordcanoeclub.co.uk/event/leighton-buzzard-hasler/
CATEGORIES:Races
END:VEVENT
BEGIN:VEVENT
DTSTART;VALUE=DATE:20220611
DTEND;VALUE=DATE:20220612
DTSTAMP:20260422T125439
CREATED:20220211T154337Z
LAST-MODIFIED:20220610T104040Z
UID:739-1654905600-1654991999@www.chelmsfordcanoeclub.co.uk
SUMMARY:Heybridge to Club
DESCRIPTION:Paddle in groups back to the club\n3 pm Club BBQ\nREMEMBER: LEAVE DRY KIT TO CHANGE INTO AT THE CLUB\nBBQ – Order your food and Pay for it (see Alex Stratford)\nBring a dessert to share\nNON PADDLERS – Please support Paddlers by being on the bank along the way to encourage your friends/children along
URL:https://www.chelmsfordcanoeclub.co.uk/event/heybridge-to-club/
CATEGORIES:Races,Social,Touring
END:VEVENT
BEGIN:VEVENT
DTSTART;VALUE=DATE:20220603
DTEND;VALUE=DATE:20220605
DTSTAMP:20260422T125439
CREATED:20220207T005744Z
LAST-MODIFIED:20220207T005744Z
UID:695-1654214400-1654387199@www.chelmsfordcanoeclub.co.uk
SUMMARY:National Sprint Regatta - Nottingham
DESCRIPTION:
URL:https://www.chelmsfordcanoeclub.co.uk/event/national-sprint-regatta-nottingham-2/
CATEGORIES:Races
END:VEVENT
BEGIN:VEVENT
DTSTART;VALUE=DATE:20220522
DTEND;VALUE=DATE:20220523
DTSTAMP:20260422T125439
CREATED:20220207T005036Z
LAST-MODIFIED:20220207T005036Z
UID:683-1653177600-1653263999@www.chelmsfordcanoeclub.co.uk
SUMMARY:Norwich Hasler
DESCRIPTION:
URL:https://www.chelmsfordcanoeclub.co.uk/event/norwich-hasler-2/
CATEGORIES:Races
END:VEVENT
BEGIN:VEVENT
DTSTART;VALUE=DATE:20220501
DTEND;VALUE=DATE:20220502
DTSTAMP:20260422T125439
CREATED:20220207T004220Z
LAST-MODIFIED:20220207T004220Z
UID:671-1651363200-1651449599@www.chelmsfordcanoeclub.co.uk
SUMMARY:Bedford Hasler
DESCRIPTION:
URL:https://www.chelmsfordcanoeclub.co.uk/event/bedford-hasler/
CATEGORIES:Races
END:VEVENT
BEGIN:VEVENT
DTSTART;VALUE=DATE:20220409
DTEND;VALUE=DATE:20220411
DTSTAMP:20260422T125439
CREATED:20220207T005636Z
LAST-MODIFIED:20220207T005636Z
UID:692-1649462400-1649635199@www.chelmsfordcanoeclub.co.uk
SUMMARY:National Sprint Regatta - Nottingham
DESCRIPTION:
URL:https://www.chelmsfordcanoeclub.co.uk/event/national-sprint-regatta-nottingham/
CATEGORIES:Races
END:VEVENT
BEGIN:VEVENT
DTSTART;VALUE=DATE:20220213
DTEND;VALUE=DATE:20220214
DTSTAMP:20260422T125439
CREATED:20220120T164224Z
LAST-MODIFIED:20220120T164224Z
UID:569-1644710400-1644796799@www.chelmsfordcanoeclub.co.uk
SUMMARY:Cambridge Hasler
DESCRIPTION:[pdfjs-viewer url=”https://www.chelmsfordcanoeclub.co.uk/wp-content/uploads/2022/01/cam_hasler_2022.pdf” attachment_id=”570″ viewer_width=100% viewer_height=800px fullscreen=true download=true print=true]
URL:https://www.chelmsfordcanoeclub.co.uk/event/cambridge-hasler/
CATEGORIES:Races
END:VEVENT
BEGIN:VEVENT
DTSTART;VALUE=DATE:20220130
DTEND;VALUE=DATE:20220131
DTSTAMP:20260422T125439
CREATED:20211126T190721Z
LAST-MODIFIED:20220125T160053Z
UID:309-1643500800-1643587199@www.chelmsfordcanoeclub.co.uk
SUMMARY:Leighton Buzzard Winter Series Race - RESCHEDULED
DESCRIPTION:Has now been rescheduled to 30th January
URL:https://www.chelmsfordcanoeclub.co.uk/event/leighton-buzzard-winter-series-race/
CATEGORIES:Races
END:VEVENT
BEGIN:VEVENT
DTSTART;VALUE=DATE:20220109
DTEND;VALUE=DATE:20220110
DTSTAMP:20260422T125439
CREATED:20211126T190622Z
LAST-MODIFIED:20211126T221944Z
UID:307-1641686400-1641772799@www.chelmsfordcanoeclub.co.uk
SUMMARY:Chelmsford Winter Series Race
DESCRIPTION:
URL:https://www.chelmsfordcanoeclub.co.uk/event/chelmsford-winter-series-race/
CATEGORIES:Races
END:VEVENT
BEGIN:VEVENT
DTSTART;VALUE=DATE:20211218
DTEND;VALUE=DATE:20211219
DTSTAMP:20260422T125439
CREATED:20211126T190336Z
LAST-MODIFIED:20211126T191227Z
UID:305-1639785600-1639871999@www.chelmsfordcanoeclub.co.uk
SUMMARY:4th Race of the Chelmsford Canoe Club Handicap Championship 2021
DESCRIPTION:Only open to club members
URL:https://www.chelmsfordcanoeclub.co.uk/event/4th-race-of-the-chelmsford-canoe-club-handicap-championship-2021/
CATEGORIES:Races
END:VEVENT
BEGIN:VEVENT
DTSTART;VALUE=DATE:20211205
DTEND;VALUE=DATE:20211206
DTSTAMP:20260422T125439
CREATED:20211126T190012Z
LAST-MODIFIED:20211126T191205Z
UID:303-1638662400-1638748799@www.chelmsfordcanoeclub.co.uk
SUMMARY:Cambridge Winter Series Race
DESCRIPTION:
URL:https://www.chelmsfordcanoeclub.co.uk/event/cambridge-winter-series-race/
CATEGORIES:Races
END:VEVENT
BEGIN:VEVENT
DTSTART;VALUE=DATE:20211030
DTEND;VALUE=DATE:20211031
DTSTAMP:20260422T125439
CREATED:20211010T150729Z
LAST-MODIFIED:20211010T172802Z
UID:179-1635552000-1635638399@www.chelmsfordcanoeclub.co.uk
SUMMARY:2nd Race of the Chelmsford Canoe Club Handicap Championship 2021
DESCRIPTION:2nd Race of the Chelmsford Canoe Club Handicap Championship 2021 (Only open to club members)
URL:https://www.chelmsfordcanoeclub.co.uk/event/2nd-race-of-the-chelmsford-canoe-club-handicap-championship-2021/
CATEGORIES:Races
END:VEVENT
BEGIN:VEVENT
DTSTART;VALUE=DATE:20211017
DTEND;VALUE=DATE:20211018
DTSTAMP:20260422T125439
CREATED:20211010T150354Z
LAST-MODIFIED:20211010T172849Z
UID:174-1634428800-1634515199@www.chelmsfordcanoeclub.co.uk
SUMMARY:Chelmer Hasler - Marathon Divisional Races
DESCRIPTION:Event Timings \nCheck In: 9:30 – 11:00\nBoat Checks: From 11:00\nBriefing: 11:30\nA & B Course Access: 11:45\nA & B Starts: 12:00\nC & D Course Access: 12:15\nC & D Starts: 12:30\nProtest Window Finish 14:15 (approximately)\nPrize Giving: 14:45\nStarts will be approximately 1-2 min apart\nPlease do not aim to arrive before 9:30\, as there will be local road and path closures related to the Chelmsford Road Marathon. \nFor full details please refer to to the Race Pack or contact the Race Organiser (Owen Shephard) by email (owen.shephard@yahoo.co.uk)
URL:https://www.chelmsfordcanoeclub.co.uk/event/chelmer-hasler-marathon-divisional-races/
LOCATION:Chelmsford Canoe Club\, Kings Head Meadow\, Empire Walk\, Chelmsford
CATEGORIES:Races
END:VEVENT
END:VCALENDAR